BEGIN:VCALENDAR
VERSION:2.0
PRODID:-//Circus Casino Resort Namur - ECPv6.15.17.1//NONSGML v1.0//EN
CALSCALE:GREGORIAN
METHOD:PUBLISH
X-ORIGINAL-URL:https://www.circuscasinoresort.com
X-WR-CALDESC:Évènements pour Circus Casino Resort Namur
REFRESH-INTERVAL;VALUE=DURATION:PT1H
X-Robots-Tag:noindex
X-PUBLISHED-TTL:PT1H
BEGIN:VTIMEZONE
TZID:Europe/Brussels
BEGIN:DAYLIGHT
TZOFFSETFROM:+0100
TZOFFSETTO:+0200
TZNAME:CEST
DTSTART:20240331T010000
END:DAYLIGHT
BEGIN:STANDARD
TZOFFSETFROM:+0200
TZOFFSETTO:+0100
TZNAME:CET
DTSTART:20241027T010000
END:STANDARD
BEGIN:DAYLIGHT
TZOFFSETFROM:+0100
TZOFFSETTO:+0200
TZNAME:CEST
DTSTART:20250330T010000
END:DAYLIGHT
BEGIN:STANDARD
TZOFFSETFROM:+0200
TZOFFSETTO:+0100
TZNAME:CET
DTSTART:20251026T010000
END:STANDARD
BEGIN:DAYLIGHT
TZOFFSETFROM:+0100
TZOFFSETTO:+0200
TZNAME:CEST
DTSTART:20260329T010000
END:DAYLIGHT
BEGIN:STANDARD
TZOFFSETFROM:+0200
TZOFFSETTO:+0100
TZNAME:CET
DTSTART:20261025T010000
END:STANDARD
END:VTIMEZONE
BEGIN:VEVENT
DTSTART;TZID=Europe/Brussels:20251204T210000
DTEND;TZID=Europe/Brussels:20251204T233000
DTSTAMP:20260426T061421
CREATED:20251022T114603Z
LAST-MODIFIED:20251022T122117Z
UID:10009000-1764882000-1764891000@www.circuscasinoresort.com
SUMMARY:Grande Finale – Grand jeu concours Range Rover
DESCRIPTION:📅 Jeudi 4 décembre 2025\n🕘 Dès 21h00\n📍 Salle Casino Club – Circus Casino Resort Namur\n  \n🚗 Collectez vos jetons jusqu’au 4 décembre dans nos espaces Hôtel\, Restaurant et Wellness\, puis validez vos participations sur la borne du Resort (1 jeton = 1 participation).\nRépondez correctement à la question et décrochez vos tickets pour la Grande Finale 🎟️\n  \nLe soir venu\, 20 finalistes joueront à Open the Box pour tenter de repartir avec la Range Rover Evoque P160 (Eiger Grey)\, un voyage\, du cash\, du high-tech et d’autres prix exclusifs.\n  \n👉 Toutes les infos
URL:https://www.circuscasinoresort.com/agenda/grande-finale-grand-jeu-concours-range-rover/
LOCATION:Salle Casino Club\, Av. Baron de Moreau 1\, Namur\, 5000\, Belgique
ATTACH;FMTTYPE=image/jpeg:https://www.circuscasinoresort.com/wp-content/uploads/2025/10/598x337-agenda.jpg
END:VEVENT
BEGIN:VEVENT
DTSTART;TZID=Europe/Brussels:20251011T190000
DTEND;TZID=Europe/Brussels:20251011T230000
DTSTAMP:20260426T061421
CREATED:20250926T083621Z
LAST-MODIFIED:20250926T095059Z
UID:10008667-1760209200-1760223600@www.circuscasinoresort.com
SUMMARY:Blind test horreur
DESCRIPTION:🎤 Blind Test spécial Horreur\n\nFrissons garantis pour cette soirée unique où les plus grands classiques musicaux se teintent de mystère et d’horreur. Formez votre équipe (8 à 10 personnes max) et relevez le défi de reconnaître 50 morceaux cultes répartis en 5 parties\, entrecoupées de pauses et de révélations..\n  \n📅 Samedi 11 octobre de 19h à 23h📍 Casino Club – Circus Casino Resort Namur\n  \n🎁 Cadeaux à gagner : un prix d’équipe à chaque partie (bons Karafun\, escape game\, atelier cuisine…)\, ainsi que 2 prix spéciaux pour l’ambiance et le meilleur déguisement horreur.\n  \nℹ️ Inscription obligatoire\n🔗 Via notre formulaire
URL:https://www.circuscasinoresort.com/agenda/blind-test-horreur/
LOCATION:Salle Casino Club\, Av. Baron de Moreau 1\, Namur\, 5000\, Belgique
ATTACH;FMTTYPE=image/jpeg:https://www.circuscasinoresort.com/wp-content/uploads/2025/09/1200x628-Blind-test-1.jpg
END:VEVENT
END:VCALENDAR