BEGIN:VCALENDAR
VERSION:2.0
PRODID:-//Circus Casino Resort Namur - ECPv6.15.17.1//NONSGML v1.0//EN
CALSCALE:GREGORIAN
METHOD:PUBLISH
X-WR-CALNAME:Circus Casino Resort Namur
X-ORIGINAL-URL:https://www.circuscasinoresort.com/en/
X-WR-CALDESC:Events for Circus Casino Resort Namur
REFRESH-INTERVAL;VALUE=DURATION:PT1H
X-Robots-Tag:noindex
X-PUBLISHED-TTL:PT1H
BEGIN:VTIMEZONE
TZID:Europe/Brussels
BEGIN:DAYLIGHT
TZOFFSETFROM:+0100
TZOFFSETTO:+0200
TZNAME:CEST
DTSTART:20230326T010000
END:DAYLIGHT
BEGIN:STANDARD
TZOFFSETFROM:+0200
TZOFFSETTO:+0100
TZNAME:CET
DTSTART:20231029T010000
END:STANDARD
BEGIN:DAYLIGHT
TZOFFSETFROM:+0100
TZOFFSETTO:+0200
TZNAME:CEST
DTSTART:20240331T010000
END:DAYLIGHT
BEGIN:STANDARD
TZOFFSETFROM:+0200
TZOFFSETTO:+0100
TZNAME:CET
DTSTART:20241027T010000
END:STANDARD
BEGIN:DAYLIGHT
TZOFFSETFROM:+0100
TZOFFSETTO:+0200
TZNAME:CEST
DTSTART:20250330T010000
END:DAYLIGHT
BEGIN:STANDARD
TZOFFSETFROM:+0200
TZOFFSETTO:+0100
TZNAME:CET
DTSTART:20251026T010000
END:STANDARD
END:VTIMEZONE
BEGIN:VEVENT
DTSTART;TZID=Europe/Brussels:20240613T180000
DTEND;TZID=Europe/Brussels:20240614T020000
DTSTAMP:20260421T000240
CREATED:20240522T091846Z
LAST-MODIFIED:20240531T095131Z
UID:10007096-1718301600-1718330400@www.circuscasinoresort.com
SUMMARY:Soirée Rooftop
DESCRIPTION:Rejoignez-nous pour le grand retour des soirées Rooftop au Casino Resort Namur !\n\n📅 Jeudi 13 juin\n🕕 Rooftop party : 18h – 23h\n🕚 After party : 23h – 02h\n📍 Rooftop Yacht Club & Terrasse Champagne\n⚪ Thème : soirée Blanche\n\n👉 Réservez dès maintenant sur https://circus.vip/3WZWKsq
URL:https://www.circuscasinoresort.com/en/agenda/soiree-rooftop/
ATTACH;FMTTYPE=image/jpeg:https://www.circuscasinoresort.com/wp-content/uploads/2024/05/C.off_20242204_Soire╠ues-Rooftop_02_Soire╠ue-blanche_agenda.jpg
END:VEVENT
END:VCALENDAR