BEGIN:VCALENDAR
VERSION:2.0
PRODID:-//Circus Casino Resort Namur - ECPv6.15.17.1//NONSGML v1.0//EN
CALSCALE:GREGORIAN
METHOD:PUBLISH
X-ORIGINAL-URL:https://www.circuscasinoresort.com/en/
X-WR-CALDESC:Events for Circus Casino Resort Namur
REFRESH-INTERVAL;VALUE=DURATION:PT1H
X-Robots-Tag:noindex
X-PUBLISHED-TTL:PT1H
BEGIN:VTIMEZONE
TZID:Europe/Brussels
BEGIN:DAYLIGHT
TZOFFSETFROM:+0100
TZOFFSETTO:+0200
TZNAME:CEST
DTSTART:20230326T010000
END:DAYLIGHT
BEGIN:STANDARD
TZOFFSETFROM:+0200
TZOFFSETTO:+0100
TZNAME:CET
DTSTART:20231029T010000
END:STANDARD
BEGIN:DAYLIGHT
TZOFFSETFROM:+0100
TZOFFSETTO:+0200
TZNAME:CEST
DTSTART:20240331T010000
END:DAYLIGHT
BEGIN:STANDARD
TZOFFSETFROM:+0200
TZOFFSETTO:+0100
TZNAME:CET
DTSTART:20241027T010000
END:STANDARD
BEGIN:DAYLIGHT
TZOFFSETFROM:+0100
TZOFFSETTO:+0200
TZNAME:CEST
DTSTART:20250330T010000
END:DAYLIGHT
BEGIN:STANDARD
TZOFFSETFROM:+0200
TZOFFSETTO:+0100
TZNAME:CET
DTSTART:20251026T010000
END:STANDARD
END:VTIMEZONE
BEGIN:VEVENT
DTSTART;VALUE=DATE:20240425
DTEND;VALUE=DATE:20240426
DTSTAMP:20260421T003127
CREATED:20240222T160032Z
LAST-MODIFIED:20240228T105458Z
UID:10005019-1714003200-1714089599@www.circuscasinoresort.com
SUMMARY:Grande Finale Jeu Concours
DESCRIPTION:Rendez-vous le 25 avril et tentez de repartir avec une FIAT 500 électrique cabriolet rose gold ! \nÀ partir du 26 février\, collectez vos jetons à chacune de vos visites dans tout le Resort (Hotel\, Restaurant\, Wellness et Casino et Seminairs & Event). \n*Retrouvez toutes les informations du Grand jeu concours via ce lien https://www.circuscasinoresort.com/grand-concours-fiat/
URL:https://www.circuscasinoresort.com/en/agenda/grande-finale-jeu-concours-fiat-500e-cabrio/
ATTACH;FMTTYPE=image/jpeg:https://www.circuscasinoresort.com/wp-content/uploads/2024/02/C.off_20231213_CCRN_Tombola-Fiat_agenda_FR.jpg
END:VEVENT
END:VCALENDAR