BEGIN:VCALENDAR
VERSION:2.0
PRODID:-//Circus Casino Resort Namur - ECPv6.15.17.1//NONSGML v1.0//EN
CALSCALE:GREGORIAN
METHOD:PUBLISH
X-ORIGINAL-URL:https://www.circuscasinoresort.com
X-WR-CALDESC:Évènements pour Circus Casino Resort Namur
REFRESH-INTERVAL;VALUE=DURATION:PT1H
X-Robots-Tag:noindex
X-PUBLISHED-TTL:PT1H
BEGIN:VTIMEZONE
TZID:Europe/Brussels
BEGIN:DAYLIGHT
TZOFFSETFROM:+0100
TZOFFSETTO:+0200
TZNAME:CEST
DTSTART:20290325T010000
END:DAYLIGHT
BEGIN:STANDARD
TZOFFSETFROM:+0200
TZOFFSETTO:+0100
TZNAME:CET
DTSTART:20291028T010000
END:STANDARD
BEGIN:DAYLIGHT
TZOFFSETFROM:+0100
TZOFFSETTO:+0200
TZNAME:CEST
DTSTART:20300331T010000
END:DAYLIGHT
BEGIN:STANDARD
TZOFFSETFROM:+0200
TZOFFSETTO:+0100
TZNAME:CET
DTSTART:20301027T010000
END:STANDARD
BEGIN:DAYLIGHT
TZOFFSETFROM:+0100
TZOFFSETTO:+0200
TZNAME:CEST
DTSTART:20310330T010000
END:DAYLIGHT
BEGIN:STANDARD
TZOFFSETFROM:+0200
TZOFFSETTO:+0100
TZNAME:CET
DTSTART:20311026T010000
END:STANDARD
END:VTIMEZONE
BEGIN:VEVENT
DTSTART;TZID=Europe/Brussels:20300804T153000
DTEND;TZID=Europe/Brussels:20300804T180000
DTSTAMP:20260420T213009
CREATED:20240429T121730Z
LAST-MODIFIED:20260123T183914Z
UID:10009332-1912087800-1912096800@www.circuscasinoresort.com
SUMMARY:Sunday Deepstack
DESCRIPTION:Buy-In : 100€ \n5.000€ GTD \nOpening hours: 3.30 p.m to 6.pm \nSingle re-entry \nATTENTION : every sunday excluding events \n 
URL:https://www.circuscasinoresort.com/agenda/sunday-deepstack/2030-08-04/
CATEGORIES:Poker
ATTACH;FMTTYPE=image/png:https://www.circuscasinoresort.com/wp-content/uploads/2024/04/Agenda-598x337-sunday-deepstack.png
END:VEVENT
BEGIN:VEVENT
DTSTART;TZID=Europe/Brussels:20300806T170000
DTEND;TZID=Europe/Brussels:20300806T233000
DTSTAMP:20260420T213009
CREATED:20240429T123020Z
LAST-MODIFIED:20260123T191502Z
UID:10008989-1912266000-1912289400@www.circuscasinoresort.com
SUMMARY:Big Tuesday
DESCRIPTION:Buy-in : 150€ \n5000€ GTD \nOpening hours : 7.30 pm \nATTENTION : every tuesday excluding events \n#Big Tuesday
URL:https://www.circuscasinoresort.com/agenda/big-tuesday/2030-08-06/
CATEGORIES:Poker
ATTACH;FMTTYPE=image/png:https://www.circuscasinoresort.com/wp-content/uploads/2024/04/Agenda-598x337-big-tuesday.png
END:VEVENT
BEGIN:VEVENT
DTSTART;TZID=Europe/Brussels:20300811T153000
DTEND;TZID=Europe/Brussels:20300811T180000
DTSTAMP:20260420T213009
CREATED:20240429T121730Z
LAST-MODIFIED:20260123T183914Z
UID:10009333-1912692600-1912701600@www.circuscasinoresort.com
SUMMARY:Sunday Deepstack
DESCRIPTION:Buy-In : 100€ \n5.000€ GTD \nOpening hours: 3.30 p.m to 6.pm \nSingle re-entry \nATTENTION : every sunday excluding events \n 
URL:https://www.circuscasinoresort.com/agenda/sunday-deepstack/2030-08-11/
CATEGORIES:Poker
ATTACH;FMTTYPE=image/png:https://www.circuscasinoresort.com/wp-content/uploads/2024/04/Agenda-598x337-sunday-deepstack.png
END:VEVENT
BEGIN:VEVENT
DTSTART;TZID=Europe/Brussels:20300813T170000
DTEND;TZID=Europe/Brussels:20300813T233000
DTSTAMP:20260420T213009
CREATED:20240429T123020Z
LAST-MODIFIED:20260123T191502Z
UID:10008990-1912870800-1912894200@www.circuscasinoresort.com
SUMMARY:Big Tuesday
DESCRIPTION:Buy-in : 150€ \n5000€ GTD \nOpening hours : 7.30 pm \nATTENTION : every tuesday excluding events \n#Big Tuesday
URL:https://www.circuscasinoresort.com/agenda/big-tuesday/2030-08-13/
CATEGORIES:Poker
ATTACH;FMTTYPE=image/png:https://www.circuscasinoresort.com/wp-content/uploads/2024/04/Agenda-598x337-big-tuesday.png
END:VEVENT
BEGIN:VEVENT
DTSTART;TZID=Europe/Brussels:20300818T153000
DTEND;TZID=Europe/Brussels:20300818T180000
DTSTAMP:20260420T213009
CREATED:20240429T121730Z
LAST-MODIFIED:20260123T183914Z
UID:10009334-1913297400-1913306400@www.circuscasinoresort.com
SUMMARY:Sunday Deepstack
DESCRIPTION:Buy-In : 100€ \n5.000€ GTD \nOpening hours: 3.30 p.m to 6.pm \nSingle re-entry \nATTENTION : every sunday excluding events \n 
URL:https://www.circuscasinoresort.com/agenda/sunday-deepstack/2030-08-18/
CATEGORIES:Poker
ATTACH;FMTTYPE=image/png:https://www.circuscasinoresort.com/wp-content/uploads/2024/04/Agenda-598x337-sunday-deepstack.png
END:VEVENT
BEGIN:VEVENT
DTSTART;TZID=Europe/Brussels:20300820T170000
DTEND;TZID=Europe/Brussels:20300820T233000
DTSTAMP:20260420T213009
CREATED:20240429T123020Z
LAST-MODIFIED:20260123T191502Z
UID:10008991-1913475600-1913499000@www.circuscasinoresort.com
SUMMARY:Big Tuesday
DESCRIPTION:Buy-in : 150€ \n5000€ GTD \nOpening hours : 7.30 pm \nATTENTION : every tuesday excluding events \n#Big Tuesday
URL:https://www.circuscasinoresort.com/agenda/big-tuesday/2030-08-20/
CATEGORIES:Poker
ATTACH;FMTTYPE=image/png:https://www.circuscasinoresort.com/wp-content/uploads/2024/04/Agenda-598x337-big-tuesday.png
END:VEVENT
BEGIN:VEVENT
DTSTART;TZID=Europe/Brussels:20300825T153000
DTEND;TZID=Europe/Brussels:20300825T180000
DTSTAMP:20260420T213009
CREATED:20240429T121730Z
LAST-MODIFIED:20260123T183914Z
UID:10009335-1913902200-1913911200@www.circuscasinoresort.com
SUMMARY:Sunday Deepstack
DESCRIPTION:Buy-In : 100€ \n5.000€ GTD \nOpening hours: 3.30 p.m to 6.pm \nSingle re-entry \nATTENTION : every sunday excluding events \n 
URL:https://www.circuscasinoresort.com/agenda/sunday-deepstack/2030-08-25/
CATEGORIES:Poker
ATTACH;FMTTYPE=image/png:https://www.circuscasinoresort.com/wp-content/uploads/2024/04/Agenda-598x337-sunday-deepstack.png
END:VEVENT
BEGIN:VEVENT
DTSTART;TZID=Europe/Brussels:20300827T170000
DTEND;TZID=Europe/Brussels:20300827T233000
DTSTAMP:20260420T213009
CREATED:20240429T123020Z
LAST-MODIFIED:20260123T191502Z
UID:10008992-1914080400-1914103800@www.circuscasinoresort.com
SUMMARY:Big Tuesday
DESCRIPTION:Buy-in : 150€ \n5000€ GTD \nOpening hours : 7.30 pm \nATTENTION : every tuesday excluding events \n#Big Tuesday
URL:https://www.circuscasinoresort.com/agenda/big-tuesday/2030-08-27/
CATEGORIES:Poker
ATTACH;FMTTYPE=image/png:https://www.circuscasinoresort.com/wp-content/uploads/2024/04/Agenda-598x337-big-tuesday.png
END:VEVENT
END:VCALENDAR