BEGIN:VCALENDAR
VERSION:2.0
PRODID:-//Circus Casino Resort Namur - ECPv6.15.17.1//NONSGML v1.0//EN
CALSCALE:GREGORIAN
METHOD:PUBLISH
X-ORIGINAL-URL:https://www.circuscasinoresort.com
X-WR-CALDESC:Évènements pour Circus Casino Resort Namur
REFRESH-INTERVAL;VALUE=DURATION:PT1H
X-Robots-Tag:noindex
X-PUBLISHED-TTL:PT1H
BEGIN:VTIMEZONE
TZID:Europe/Brussels
BEGIN:DAYLIGHT
TZOFFSETFROM:+0100
TZOFFSETTO:+0200
TZNAME:CEST
DTSTART:20290325T010000
END:DAYLIGHT
BEGIN:STANDARD
TZOFFSETFROM:+0200
TZOFFSETTO:+0100
TZNAME:CET
DTSTART:20291028T010000
END:STANDARD
BEGIN:DAYLIGHT
TZOFFSETFROM:+0100
TZOFFSETTO:+0200
TZNAME:CEST
DTSTART:20300331T010000
END:DAYLIGHT
BEGIN:STANDARD
TZOFFSETFROM:+0200
TZOFFSETTO:+0100
TZNAME:CET
DTSTART:20301027T010000
END:STANDARD
BEGIN:DAYLIGHT
TZOFFSETFROM:+0100
TZOFFSETTO:+0200
TZNAME:CEST
DTSTART:20310330T010000
END:DAYLIGHT
BEGIN:STANDARD
TZOFFSETFROM:+0200
TZOFFSETTO:+0100
TZNAME:CET
DTSTART:20311026T010000
END:STANDARD
END:VTIMEZONE
BEGIN:VEVENT
DTSTART;TZID=Europe/Brussels:20300101T170000
DTEND;TZID=Europe/Brussels:20300101T233000
DTSTAMP:20260420T070333
CREATED:20240429T123020Z
LAST-MODIFIED:20260123T191502Z
UID:10008958-1893517200-1893540600@www.circuscasinoresort.com
SUMMARY:Big Tuesday
DESCRIPTION:Buy-in : 150€ \n5000€ GTD \nOpening hours : 7.30 pm \nATTENTION : every tuesday excluding events \n#Big Tuesday
URL:https://www.circuscasinoresort.com/agenda/big-tuesday/2030-01-01/
CATEGORIES:Poker
ATTACH;FMTTYPE=image/png:https://www.circuscasinoresort.com/wp-content/uploads/2024/04/Agenda-598x337-big-tuesday.png
END:VEVENT
BEGIN:VEVENT
DTSTART;TZID=Europe/Brussels:20300106T153000
DTEND;TZID=Europe/Brussels:20300106T180000
DTSTAMP:20260420T070333
CREATED:20240429T121730Z
LAST-MODIFIED:20260123T183914Z
UID:10009302-1893943800-1893952800@www.circuscasinoresort.com
SUMMARY:Sunday Deepstack
DESCRIPTION:Buy-In : 100€ \n5.000€ GTD \nOpening hours: 3.30 p.m to 6.pm \nSingle re-entry \nATTENTION : every sunday excluding events \n 
URL:https://www.circuscasinoresort.com/agenda/sunday-deepstack/2030-01-06/
CATEGORIES:Poker
ATTACH;FMTTYPE=image/png:https://www.circuscasinoresort.com/wp-content/uploads/2024/04/Agenda-598x337-sunday-deepstack.png
END:VEVENT
BEGIN:VEVENT
DTSTART;TZID=Europe/Brussels:20300108T170000
DTEND;TZID=Europe/Brussels:20300108T233000
DTSTAMP:20260420T070333
CREATED:20240429T123020Z
LAST-MODIFIED:20260123T191502Z
UID:10008959-1894122000-1894145400@www.circuscasinoresort.com
SUMMARY:Big Tuesday
DESCRIPTION:Buy-in : 150€ \n5000€ GTD \nOpening hours : 7.30 pm \nATTENTION : every tuesday excluding events \n#Big Tuesday
URL:https://www.circuscasinoresort.com/agenda/big-tuesday/2030-01-08/
CATEGORIES:Poker
ATTACH;FMTTYPE=image/png:https://www.circuscasinoresort.com/wp-content/uploads/2024/04/Agenda-598x337-big-tuesday.png
END:VEVENT
BEGIN:VEVENT
DTSTART;TZID=Europe/Brussels:20300113T153000
DTEND;TZID=Europe/Brussels:20300113T180000
DTSTAMP:20260420T070333
CREATED:20240429T121730Z
LAST-MODIFIED:20260123T183914Z
UID:10009303-1894548600-1894557600@www.circuscasinoresort.com
SUMMARY:Sunday Deepstack
DESCRIPTION:Buy-In : 100€ \n5.000€ GTD \nOpening hours: 3.30 p.m to 6.pm \nSingle re-entry \nATTENTION : every sunday excluding events \n 
URL:https://www.circuscasinoresort.com/agenda/sunday-deepstack/2030-01-13/
CATEGORIES:Poker
ATTACH;FMTTYPE=image/png:https://www.circuscasinoresort.com/wp-content/uploads/2024/04/Agenda-598x337-sunday-deepstack.png
END:VEVENT
BEGIN:VEVENT
DTSTART;TZID=Europe/Brussels:20300115T170000
DTEND;TZID=Europe/Brussels:20300115T233000
DTSTAMP:20260420T070333
CREATED:20240429T123020Z
LAST-MODIFIED:20260123T191502Z
UID:10008960-1894726800-1894750200@www.circuscasinoresort.com
SUMMARY:Big Tuesday
DESCRIPTION:Buy-in : 150€ \n5000€ GTD \nOpening hours : 7.30 pm \nATTENTION : every tuesday excluding events \n#Big Tuesday
URL:https://www.circuscasinoresort.com/agenda/big-tuesday/2030-01-15/
CATEGORIES:Poker
ATTACH;FMTTYPE=image/png:https://www.circuscasinoresort.com/wp-content/uploads/2024/04/Agenda-598x337-big-tuesday.png
END:VEVENT
BEGIN:VEVENT
DTSTART;TZID=Europe/Brussels:20300120T153000
DTEND;TZID=Europe/Brussels:20300120T180000
DTSTAMP:20260420T070333
CREATED:20240429T121730Z
LAST-MODIFIED:20260123T183914Z
UID:10009304-1895153400-1895162400@www.circuscasinoresort.com
SUMMARY:Sunday Deepstack
DESCRIPTION:Buy-In : 100€ \n5.000€ GTD \nOpening hours: 3.30 p.m to 6.pm \nSingle re-entry \nATTENTION : every sunday excluding events \n 
URL:https://www.circuscasinoresort.com/agenda/sunday-deepstack/2030-01-20/
CATEGORIES:Poker
ATTACH;FMTTYPE=image/png:https://www.circuscasinoresort.com/wp-content/uploads/2024/04/Agenda-598x337-sunday-deepstack.png
END:VEVENT
BEGIN:VEVENT
DTSTART;TZID=Europe/Brussels:20300122T170000
DTEND;TZID=Europe/Brussels:20300122T233000
DTSTAMP:20260420T070333
CREATED:20240429T123020Z
LAST-MODIFIED:20260123T191502Z
UID:10008961-1895331600-1895355000@www.circuscasinoresort.com
SUMMARY:Big Tuesday
DESCRIPTION:Buy-in : 150€ \n5000€ GTD \nOpening hours : 7.30 pm \nATTENTION : every tuesday excluding events \n#Big Tuesday
URL:https://www.circuscasinoresort.com/agenda/big-tuesday/2030-01-22/
CATEGORIES:Poker
ATTACH;FMTTYPE=image/png:https://www.circuscasinoresort.com/wp-content/uploads/2024/04/Agenda-598x337-big-tuesday.png
END:VEVENT
BEGIN:VEVENT
DTSTART;TZID=Europe/Brussels:20300127T153000
DTEND;TZID=Europe/Brussels:20300127T180000
DTSTAMP:20260420T070333
CREATED:20240429T121730Z
LAST-MODIFIED:20260123T183914Z
UID:10009305-1895758200-1895767200@www.circuscasinoresort.com
SUMMARY:Sunday Deepstack
DESCRIPTION:Buy-In : 100€ \n5.000€ GTD \nOpening hours: 3.30 p.m to 6.pm \nSingle re-entry \nATTENTION : every sunday excluding events \n 
URL:https://www.circuscasinoresort.com/agenda/sunday-deepstack/2030-01-27/
CATEGORIES:Poker
ATTACH;FMTTYPE=image/png:https://www.circuscasinoresort.com/wp-content/uploads/2024/04/Agenda-598x337-sunday-deepstack.png
END:VEVENT
BEGIN:VEVENT
DTSTART;TZID=Europe/Brussels:20300129T170000
DTEND;TZID=Europe/Brussels:20300129T233000
DTSTAMP:20260420T070333
CREATED:20240429T123020Z
LAST-MODIFIED:20260123T191502Z
UID:10008962-1895936400-1895959800@www.circuscasinoresort.com
SUMMARY:Big Tuesday
DESCRIPTION:Buy-in : 150€ \n5000€ GTD \nOpening hours : 7.30 pm \nATTENTION : every tuesday excluding events \n#Big Tuesday
URL:https://www.circuscasinoresort.com/agenda/big-tuesday/2030-01-29/
CATEGORIES:Poker
ATTACH;FMTTYPE=image/png:https://www.circuscasinoresort.com/wp-content/uploads/2024/04/Agenda-598x337-big-tuesday.png
END:VEVENT
END:VCALENDAR