BEGIN:VCALENDAR
VERSION:2.0
PRODID:-//Circus Casino Resort Namur - ECPv6.15.17.1//NONSGML v1.0//EN
CALSCALE:GREGORIAN
METHOD:PUBLISH
X-WR-CALNAME:Circus Casino Resort Namur
X-ORIGINAL-URL:https://www.circuscasinoresort.com
X-WR-CALDESC:Évènements pour Circus Casino Resort Namur
REFRESH-INTERVAL;VALUE=DURATION:PT1H
X-Robots-Tag:noindex
X-PUBLISHED-TTL:PT1H
BEGIN:VTIMEZONE
TZID:Europe/Brussels
BEGIN:DAYLIGHT
TZOFFSETFROM:+0100
TZOFFSETTO:+0200
TZNAME:CEST
DTSTART:20280326T010000
END:DAYLIGHT
BEGIN:STANDARD
TZOFFSETFROM:+0200
TZOFFSETTO:+0100
TZNAME:CET
DTSTART:20281029T010000
END:STANDARD
BEGIN:DAYLIGHT
TZOFFSETFROM:+0100
TZOFFSETTO:+0200
TZNAME:CEST
DTSTART:20290325T010000
END:DAYLIGHT
BEGIN:STANDARD
TZOFFSETFROM:+0200
TZOFFSETTO:+0100
TZNAME:CET
DTSTART:20291028T010000
END:STANDARD
BEGIN:DAYLIGHT
TZOFFSETFROM:+0100
TZOFFSETTO:+0200
TZNAME:CEST
DTSTART:20300331T010000
END:DAYLIGHT
BEGIN:STANDARD
TZOFFSETFROM:+0200
TZOFFSETTO:+0100
TZNAME:CET
DTSTART:20301027T010000
END:STANDARD
END:VTIMEZONE
BEGIN:VEVENT
DTSTART;TZID=Europe/Brussels:20291002T170000
DTEND;TZID=Europe/Brussels:20291002T233000
DTSTAMP:20260420T012925
CREATED:20240429T123020Z
LAST-MODIFIED:20260123T191502Z
UID:10008945-1885654800-1885678200@www.circuscasinoresort.com
SUMMARY:Big Tuesday
DESCRIPTION:Buy-in : 150€ \n5000€ GTD \nOpening hours : 7.30 pm \nATTENTION : every tuesday excluding events \n#Big Tuesday
URL:https://www.circuscasinoresort.com/agenda/big-tuesday/2029-10-02/
CATEGORIES:Poker
ATTACH;FMTTYPE=image/png:https://www.circuscasinoresort.com/wp-content/uploads/2024/04/Agenda-598x337-big-tuesday.png
END:VEVENT
BEGIN:VEVENT
DTSTART;TZID=Europe/Brussels:20291007T153000
DTEND;TZID=Europe/Brussels:20291007T180000
DTSTAMP:20260420T012925
CREATED:20240429T121730Z
LAST-MODIFIED:20260123T183914Z
UID:10009289-1886081400-1886090400@www.circuscasinoresort.com
SUMMARY:Sunday Deepstack
DESCRIPTION:Buy-In : 100€ \n5.000€ GTD \nOpening hours: 3.30 p.m to 6.pm \nSingle re-entry \nATTENTION : every sunday excluding events \n 
URL:https://www.circuscasinoresort.com/agenda/sunday-deepstack/2029-10-07/
CATEGORIES:Poker
ATTACH;FMTTYPE=image/png:https://www.circuscasinoresort.com/wp-content/uploads/2024/04/Agenda-598x337-sunday-deepstack.png
END:VEVENT
BEGIN:VEVENT
DTSTART;TZID=Europe/Brussels:20291009T170000
DTEND;TZID=Europe/Brussels:20291009T233000
DTSTAMP:20260420T012925
CREATED:20240429T123020Z
LAST-MODIFIED:20260123T191502Z
UID:10008946-1886259600-1886283000@www.circuscasinoresort.com
SUMMARY:Big Tuesday
DESCRIPTION:Buy-in : 150€ \n5000€ GTD \nOpening hours : 7.30 pm \nATTENTION : every tuesday excluding events \n#Big Tuesday
URL:https://www.circuscasinoresort.com/agenda/big-tuesday/2029-10-09/
CATEGORIES:Poker
ATTACH;FMTTYPE=image/png:https://www.circuscasinoresort.com/wp-content/uploads/2024/04/Agenda-598x337-big-tuesday.png
END:VEVENT
BEGIN:VEVENT
DTSTART;TZID=Europe/Brussels:20291014T153000
DTEND;TZID=Europe/Brussels:20291014T180000
DTSTAMP:20260420T012925
CREATED:20240429T121730Z
LAST-MODIFIED:20260123T183914Z
UID:10009290-1886686200-1886695200@www.circuscasinoresort.com
SUMMARY:Sunday Deepstack
DESCRIPTION:Buy-In : 100€ \n5.000€ GTD \nOpening hours: 3.30 p.m to 6.pm \nSingle re-entry \nATTENTION : every sunday excluding events \n 
URL:https://www.circuscasinoresort.com/agenda/sunday-deepstack/2029-10-14/
CATEGORIES:Poker
ATTACH;FMTTYPE=image/png:https://www.circuscasinoresort.com/wp-content/uploads/2024/04/Agenda-598x337-sunday-deepstack.png
END:VEVENT
BEGIN:VEVENT
DTSTART;TZID=Europe/Brussels:20291016T170000
DTEND;TZID=Europe/Brussels:20291016T233000
DTSTAMP:20260420T012925
CREATED:20240429T123020Z
LAST-MODIFIED:20260123T191502Z
UID:10008947-1886864400-1886887800@www.circuscasinoresort.com
SUMMARY:Big Tuesday
DESCRIPTION:Buy-in : 150€ \n5000€ GTD \nOpening hours : 7.30 pm \nATTENTION : every tuesday excluding events \n#Big Tuesday
URL:https://www.circuscasinoresort.com/agenda/big-tuesday/2029-10-16/
CATEGORIES:Poker
ATTACH;FMTTYPE=image/png:https://www.circuscasinoresort.com/wp-content/uploads/2024/04/Agenda-598x337-big-tuesday.png
END:VEVENT
BEGIN:VEVENT
DTSTART;TZID=Europe/Brussels:20291021T153000
DTEND;TZID=Europe/Brussels:20291021T180000
DTSTAMP:20260420T012925
CREATED:20240429T121730Z
LAST-MODIFIED:20260123T183914Z
UID:10009291-1887291000-1887300000@www.circuscasinoresort.com
SUMMARY:Sunday Deepstack
DESCRIPTION:Buy-In : 100€ \n5.000€ GTD \nOpening hours: 3.30 p.m to 6.pm \nSingle re-entry \nATTENTION : every sunday excluding events \n 
URL:https://www.circuscasinoresort.com/agenda/sunday-deepstack/2029-10-21/
CATEGORIES:Poker
ATTACH;FMTTYPE=image/png:https://www.circuscasinoresort.com/wp-content/uploads/2024/04/Agenda-598x337-sunday-deepstack.png
END:VEVENT
BEGIN:VEVENT
DTSTART;TZID=Europe/Brussels:20291023T170000
DTEND;TZID=Europe/Brussels:20291023T233000
DTSTAMP:20260420T012925
CREATED:20240429T123020Z
LAST-MODIFIED:20260123T191502Z
UID:10008948-1887469200-1887492600@www.circuscasinoresort.com
SUMMARY:Big Tuesday
DESCRIPTION:Buy-in : 150€ \n5000€ GTD \nOpening hours : 7.30 pm \nATTENTION : every tuesday excluding events \n#Big Tuesday
URL:https://www.circuscasinoresort.com/agenda/big-tuesday/2029-10-23/
CATEGORIES:Poker
ATTACH;FMTTYPE=image/png:https://www.circuscasinoresort.com/wp-content/uploads/2024/04/Agenda-598x337-big-tuesday.png
END:VEVENT
BEGIN:VEVENT
DTSTART;TZID=Europe/Brussels:20291028T153000
DTEND;TZID=Europe/Brussels:20291028T180000
DTSTAMP:20260420T012925
CREATED:20240429T121730Z
LAST-MODIFIED:20260123T183914Z
UID:10009292-1887895800-1887904800@www.circuscasinoresort.com
SUMMARY:Sunday Deepstack
DESCRIPTION:Buy-In : 100€ \n5.000€ GTD \nOpening hours: 3.30 p.m to 6.pm \nSingle re-entry \nATTENTION : every sunday excluding events \n 
URL:https://www.circuscasinoresort.com/agenda/sunday-deepstack/2029-10-28/
CATEGORIES:Poker
ATTACH;FMTTYPE=image/png:https://www.circuscasinoresort.com/wp-content/uploads/2024/04/Agenda-598x337-sunday-deepstack.png
END:VEVENT
BEGIN:VEVENT
DTSTART;TZID=Europe/Brussels:20291030T170000
DTEND;TZID=Europe/Brussels:20291030T233000
DTSTAMP:20260420T012925
CREATED:20240429T123020Z
LAST-MODIFIED:20260123T191502Z
UID:10008949-1888074000-1888097400@www.circuscasinoresort.com
SUMMARY:Big Tuesday
DESCRIPTION:Buy-in : 150€ \n5000€ GTD \nOpening hours : 7.30 pm \nATTENTION : every tuesday excluding events \n#Big Tuesday
URL:https://www.circuscasinoresort.com/agenda/big-tuesday/2029-10-30/
CATEGORIES:Poker
ATTACH;FMTTYPE=image/png:https://www.circuscasinoresort.com/wp-content/uploads/2024/04/Agenda-598x337-big-tuesday.png
END:VEVENT
END:VCALENDAR