BEGIN:VCALENDAR
VERSION:2.0
PRODID:-//Circus Casino Resort Namur - ECPv6.15.17.1//NONSGML v1.0//EN
CALSCALE:GREGORIAN
METHOD:PUBLISH
X-WR-CALNAME:Circus Casino Resort Namur
X-ORIGINAL-URL:https://www.circuscasinoresort.com
X-WR-CALDESC:Évènements pour Circus Casino Resort Namur
REFRESH-INTERVAL;VALUE=DURATION:PT1H
X-Robots-Tag:noindex
X-PUBLISHED-TTL:PT1H
BEGIN:VTIMEZONE
TZID:Europe/Brussels
BEGIN:DAYLIGHT
TZOFFSETFROM:+0100
TZOFFSETTO:+0200
TZNAME:CEST
DTSTART:20280326T010000
END:DAYLIGHT
BEGIN:STANDARD
TZOFFSETFROM:+0200
TZOFFSETTO:+0100
TZNAME:CET
DTSTART:20281029T010000
END:STANDARD
BEGIN:DAYLIGHT
TZOFFSETFROM:+0100
TZOFFSETTO:+0200
TZNAME:CEST
DTSTART:20290325T010000
END:DAYLIGHT
BEGIN:STANDARD
TZOFFSETFROM:+0200
TZOFFSETTO:+0100
TZNAME:CET
DTSTART:20291028T010000
END:STANDARD
BEGIN:DAYLIGHT
TZOFFSETFROM:+0100
TZOFFSETTO:+0200
TZNAME:CEST
DTSTART:20300331T010000
END:DAYLIGHT
BEGIN:STANDARD
TZOFFSETFROM:+0200
TZOFFSETTO:+0100
TZNAME:CET
DTSTART:20301027T010000
END:STANDARD
END:VTIMEZONE
BEGIN:VEVENT
DTSTART;TZID=Europe/Brussels:20290401T153000
DTEND;TZID=Europe/Brussels:20290401T180000
DTSTAMP:20260419T140951
CREATED:20240429T121730Z
LAST-MODIFIED:20260123T183914Z
UID:10005284-1869751800-1869760800@www.circuscasinoresort.com
SUMMARY:Sunday Deepstack
DESCRIPTION:Buy-In : 100€ \n5.000€ GTD \nOpening hours: 3.30 p.m to 6.pm \nSingle re-entry \nATTENTION : every sunday excluding events \n 
URL:https://www.circuscasinoresort.com/agenda/sunday-deepstack/2029-04-01/
CATEGORIES:Poker
ATTACH;FMTTYPE=image/png:https://www.circuscasinoresort.com/wp-content/uploads/2024/04/Agenda-598x337-sunday-deepstack.png
END:VEVENT
BEGIN:VEVENT
DTSTART;TZID=Europe/Brussels:20290402T180000
DTEND;TZID=Europe/Brussels:20290402T233000
DTSTAMP:20260419T140951
CREATED:20240429T122236Z
LAST-MODIFIED:20240429T131458Z
UID:10005546-1869847200-1869867000@www.circuscasinoresort.com
SUMMARY:Circus Monday
DESCRIPTION:Buy-in : 30€ \n1.000€ GTD \nDébut à 18h \nDouble chance – Self deal \n  \n*Programme susceptible d’être modifié en fonction des évènements Poker \nRetrouvez toutes les informations sur notre site internet : https://www.circus-poker.com/fr/ticketing/ticket/list/4
URL:https://www.circuscasinoresort.com/agenda/circus-monday/2029-04-02/
CATEGORIES:Poker
ATTACH;FMTTYPE=image/jpeg:https://www.circuscasinoresort.com/wp-content/uploads/2024/04/Hebdos_2024_Circus-Monday_agenda.jpg
END:VEVENT
BEGIN:VEVENT
DTSTART;TZID=Europe/Brussels:20290403T170000
DTEND;TZID=Europe/Brussels:20290403T233000
DTSTAMP:20260419T140951
CREATED:20240429T123020Z
LAST-MODIFIED:20260123T191502Z
UID:10008919-1869930000-1869953400@www.circuscasinoresort.com
SUMMARY:Big Tuesday
DESCRIPTION:Buy-in : 150€ \n5000€ GTD \nOpening hours : 7.30 pm \nATTENTION : every tuesday excluding events \n#Big Tuesday
URL:https://www.circuscasinoresort.com/agenda/big-tuesday/2029-04-03/
CATEGORIES:Poker
ATTACH;FMTTYPE=image/png:https://www.circuscasinoresort.com/wp-content/uploads/2024/04/Agenda-598x337-big-tuesday.png
END:VEVENT
BEGIN:VEVENT
DTSTART;TZID=Europe/Brussels:20290404T180000
DTEND;TZID=Europe/Brussels:20290404T233000
DTSTAMP:20260419T140951
CREATED:20240429T123347Z
LAST-MODIFIED:20240429T131657Z
UID:10006329-1870020000-1870039800@www.circuscasinoresort.com
SUMMARY:Free Fifty
DESCRIPTION:Texas Hold’em No Limit \nBuy-in 50€ \n1000€ GTD \nDébut à 18h \nHalf-Ante – No Rake – Re-entry – Self Deal \n  \n*Programme susceptible d’être modifié en fonction des évènements Poker \nRetrouvez toutes les informations sur notre site internet : https://www.circus-poker.com/fr/ticketing/ticket/list/4
URL:https://www.circuscasinoresort.com/agenda/free-fifty/2029-04-04/
CATEGORIES:Poker
ATTACH;FMTTYPE=image/jpeg:https://www.circuscasinoresort.com/wp-content/uploads/2024/04/Hebdos_2024_Free-Fifty_agenda.jpg
END:VEVENT
BEGIN:VEVENT
DTSTART;TZID=Europe/Brussels:20290408T153000
DTEND;TZID=Europe/Brussels:20290408T180000
DTSTAMP:20260419T140951
CREATED:20240429T121730Z
LAST-MODIFIED:20260123T183914Z
UID:10005285-1870356600-1870365600@www.circuscasinoresort.com
SUMMARY:Sunday Deepstack
DESCRIPTION:Buy-In : 100€ \n5.000€ GTD \nOpening hours: 3.30 p.m to 6.pm \nSingle re-entry \nATTENTION : every sunday excluding events \n 
URL:https://www.circuscasinoresort.com/agenda/sunday-deepstack/2029-04-08/
CATEGORIES:Poker
ATTACH;FMTTYPE=image/png:https://www.circuscasinoresort.com/wp-content/uploads/2024/04/Agenda-598x337-sunday-deepstack.png
END:VEVENT
BEGIN:VEVENT
DTSTART;TZID=Europe/Brussels:20290409T180000
DTEND;TZID=Europe/Brussels:20290409T233000
DTSTAMP:20260419T140951
CREATED:20240429T122236Z
LAST-MODIFIED:20240429T131458Z
UID:10005547-1870452000-1870471800@www.circuscasinoresort.com
SUMMARY:Circus Monday
DESCRIPTION:Buy-in : 30€ \n1.000€ GTD \nDébut à 18h \nDouble chance – Self deal \n  \n*Programme susceptible d’être modifié en fonction des évènements Poker \nRetrouvez toutes les informations sur notre site internet : https://www.circus-poker.com/fr/ticketing/ticket/list/4
URL:https://www.circuscasinoresort.com/agenda/circus-monday/2029-04-09/
CATEGORIES:Poker
ATTACH;FMTTYPE=image/jpeg:https://www.circuscasinoresort.com/wp-content/uploads/2024/04/Hebdos_2024_Circus-Monday_agenda.jpg
END:VEVENT
BEGIN:VEVENT
DTSTART;TZID=Europe/Brussels:20290410T170000
DTEND;TZID=Europe/Brussels:20290410T233000
DTSTAMP:20260419T140951
CREATED:20240429T123020Z
LAST-MODIFIED:20260123T191502Z
UID:10008920-1870534800-1870558200@www.circuscasinoresort.com
SUMMARY:Big Tuesday
DESCRIPTION:Buy-in : 150€ \n5000€ GTD \nOpening hours : 7.30 pm \nATTENTION : every tuesday excluding events \n#Big Tuesday
URL:https://www.circuscasinoresort.com/agenda/big-tuesday/2029-04-10/
CATEGORIES:Poker
ATTACH;FMTTYPE=image/png:https://www.circuscasinoresort.com/wp-content/uploads/2024/04/Agenda-598x337-big-tuesday.png
END:VEVENT
BEGIN:VEVENT
DTSTART;TZID=Europe/Brussels:20290411T180000
DTEND;TZID=Europe/Brussels:20290411T233000
DTSTAMP:20260419T140951
CREATED:20240429T123347Z
LAST-MODIFIED:20240429T131657Z
UID:10006330-1870624800-1870644600@www.circuscasinoresort.com
SUMMARY:Free Fifty
DESCRIPTION:Texas Hold’em No Limit \nBuy-in 50€ \n1000€ GTD \nDébut à 18h \nHalf-Ante – No Rake – Re-entry – Self Deal \n  \n*Programme susceptible d’être modifié en fonction des évènements Poker \nRetrouvez toutes les informations sur notre site internet : https://www.circus-poker.com/fr/ticketing/ticket/list/4
URL:https://www.circuscasinoresort.com/agenda/free-fifty/2029-04-11/
CATEGORIES:Poker
ATTACH;FMTTYPE=image/jpeg:https://www.circuscasinoresort.com/wp-content/uploads/2024/04/Hebdos_2024_Free-Fifty_agenda.jpg
END:VEVENT
BEGIN:VEVENT
DTSTART;TZID=Europe/Brussels:20290415T153000
DTEND;TZID=Europe/Brussels:20290415T180000
DTSTAMP:20260419T140951
CREATED:20240429T121730Z
LAST-MODIFIED:20260123T183914Z
UID:10005286-1870961400-1870970400@www.circuscasinoresort.com
SUMMARY:Sunday Deepstack
DESCRIPTION:Buy-In : 100€ \n5.000€ GTD \nOpening hours: 3.30 p.m to 6.pm \nSingle re-entry \nATTENTION : every sunday excluding events \n 
URL:https://www.circuscasinoresort.com/agenda/sunday-deepstack/2029-04-15/
CATEGORIES:Poker
ATTACH;FMTTYPE=image/png:https://www.circuscasinoresort.com/wp-content/uploads/2024/04/Agenda-598x337-sunday-deepstack.png
END:VEVENT
BEGIN:VEVENT
DTSTART;TZID=Europe/Brussels:20290416T180000
DTEND;TZID=Europe/Brussels:20290416T233000
DTSTAMP:20260419T140951
CREATED:20240429T122236Z
LAST-MODIFIED:20240429T131458Z
UID:10005548-1871056800-1871076600@www.circuscasinoresort.com
SUMMARY:Circus Monday
DESCRIPTION:Buy-in : 30€ \n1.000€ GTD \nDébut à 18h \nDouble chance – Self deal \n  \n*Programme susceptible d’être modifié en fonction des évènements Poker \nRetrouvez toutes les informations sur notre site internet : https://www.circus-poker.com/fr/ticketing/ticket/list/4
URL:https://www.circuscasinoresort.com/agenda/circus-monday/2029-04-16/
CATEGORIES:Poker
ATTACH;FMTTYPE=image/jpeg:https://www.circuscasinoresort.com/wp-content/uploads/2024/04/Hebdos_2024_Circus-Monday_agenda.jpg
END:VEVENT
BEGIN:VEVENT
DTSTART;TZID=Europe/Brussels:20290417T170000
DTEND;TZID=Europe/Brussels:20290417T233000
DTSTAMP:20260419T140951
CREATED:20240429T123020Z
LAST-MODIFIED:20260123T191502Z
UID:10008921-1871139600-1871163000@www.circuscasinoresort.com
SUMMARY:Big Tuesday
DESCRIPTION:Buy-in : 150€ \n5000€ GTD \nOpening hours : 7.30 pm \nATTENTION : every tuesday excluding events \n#Big Tuesday
URL:https://www.circuscasinoresort.com/agenda/big-tuesday/2029-04-17/
CATEGORIES:Poker
ATTACH;FMTTYPE=image/png:https://www.circuscasinoresort.com/wp-content/uploads/2024/04/Agenda-598x337-big-tuesday.png
END:VEVENT
BEGIN:VEVENT
DTSTART;TZID=Europe/Brussels:20290418T180000
DTEND;TZID=Europe/Brussels:20290418T233000
DTSTAMP:20260419T140951
CREATED:20240429T123347Z
LAST-MODIFIED:20240429T131657Z
UID:10006331-1871229600-1871249400@www.circuscasinoresort.com
SUMMARY:Free Fifty
DESCRIPTION:Texas Hold’em No Limit \nBuy-in 50€ \n1000€ GTD \nDébut à 18h \nHalf-Ante – No Rake – Re-entry – Self Deal \n  \n*Programme susceptible d’être modifié en fonction des évènements Poker \nRetrouvez toutes les informations sur notre site internet : https://www.circus-poker.com/fr/ticketing/ticket/list/4
URL:https://www.circuscasinoresort.com/agenda/free-fifty/2029-04-18/
CATEGORIES:Poker
ATTACH;FMTTYPE=image/jpeg:https://www.circuscasinoresort.com/wp-content/uploads/2024/04/Hebdos_2024_Free-Fifty_agenda.jpg
END:VEVENT
BEGIN:VEVENT
DTSTART;TZID=Europe/Brussels:20290422T153000
DTEND;TZID=Europe/Brussels:20290422T180000
DTSTAMP:20260419T140951
CREATED:20240429T121730Z
LAST-MODIFIED:20260123T183914Z
UID:10005287-1871566200-1871575200@www.circuscasinoresort.com
SUMMARY:Sunday Deepstack
DESCRIPTION:Buy-In : 100€ \n5.000€ GTD \nOpening hours: 3.30 p.m to 6.pm \nSingle re-entry \nATTENTION : every sunday excluding events \n 
URL:https://www.circuscasinoresort.com/agenda/sunday-deepstack/2029-04-22/
CATEGORIES:Poker
ATTACH;FMTTYPE=image/png:https://www.circuscasinoresort.com/wp-content/uploads/2024/04/Agenda-598x337-sunday-deepstack.png
END:VEVENT
BEGIN:VEVENT
DTSTART;TZID=Europe/Brussels:20290423T180000
DTEND;TZID=Europe/Brussels:20290423T233000
DTSTAMP:20260419T140951
CREATED:20240429T122236Z
LAST-MODIFIED:20240429T131458Z
UID:10005549-1871661600-1871681400@www.circuscasinoresort.com
SUMMARY:Circus Monday
DESCRIPTION:Buy-in : 30€ \n1.000€ GTD \nDébut à 18h \nDouble chance – Self deal \n  \n*Programme susceptible d’être modifié en fonction des évènements Poker \nRetrouvez toutes les informations sur notre site internet : https://www.circus-poker.com/fr/ticketing/ticket/list/4
URL:https://www.circuscasinoresort.com/agenda/circus-monday/2029-04-23/
CATEGORIES:Poker
ATTACH;FMTTYPE=image/jpeg:https://www.circuscasinoresort.com/wp-content/uploads/2024/04/Hebdos_2024_Circus-Monday_agenda.jpg
END:VEVENT
BEGIN:VEVENT
DTSTART;TZID=Europe/Brussels:20290424T170000
DTEND;TZID=Europe/Brussels:20290424T233000
DTSTAMP:20260419T140951
CREATED:20240429T123020Z
LAST-MODIFIED:20260123T191502Z
UID:10008922-1871744400-1871767800@www.circuscasinoresort.com
SUMMARY:Big Tuesday
DESCRIPTION:Buy-in : 150€ \n5000€ GTD \nOpening hours : 7.30 pm \nATTENTION : every tuesday excluding events \n#Big Tuesday
URL:https://www.circuscasinoresort.com/agenda/big-tuesday/2029-04-24/
CATEGORIES:Poker
ATTACH;FMTTYPE=image/png:https://www.circuscasinoresort.com/wp-content/uploads/2024/04/Agenda-598x337-big-tuesday.png
END:VEVENT
BEGIN:VEVENT
DTSTART;TZID=Europe/Brussels:20290425T180000
DTEND;TZID=Europe/Brussels:20290425T233000
DTSTAMP:20260419T140951
CREATED:20240429T123347Z
LAST-MODIFIED:20240429T131657Z
UID:10006332-1871834400-1871854200@www.circuscasinoresort.com
SUMMARY:Free Fifty
DESCRIPTION:Texas Hold’em No Limit \nBuy-in 50€ \n1000€ GTD \nDébut à 18h \nHalf-Ante – No Rake – Re-entry – Self Deal \n  \n*Programme susceptible d’être modifié en fonction des évènements Poker \nRetrouvez toutes les informations sur notre site internet : https://www.circus-poker.com/fr/ticketing/ticket/list/4
URL:https://www.circuscasinoresort.com/agenda/free-fifty/2029-04-25/
CATEGORIES:Poker
ATTACH;FMTTYPE=image/jpeg:https://www.circuscasinoresort.com/wp-content/uploads/2024/04/Hebdos_2024_Free-Fifty_agenda.jpg
END:VEVENT
BEGIN:VEVENT
DTSTART;TZID=Europe/Brussels:20290429T153000
DTEND;TZID=Europe/Brussels:20290429T180000
DTSTAMP:20260419T140951
CREATED:20240429T121730Z
LAST-MODIFIED:20260123T183914Z
UID:10005288-1872171000-1872180000@www.circuscasinoresort.com
SUMMARY:Sunday Deepstack
DESCRIPTION:Buy-In : 100€ \n5.000€ GTD \nOpening hours: 3.30 p.m to 6.pm \nSingle re-entry \nATTENTION : every sunday excluding events \n 
URL:https://www.circuscasinoresort.com/agenda/sunday-deepstack/2029-04-29/
CATEGORIES:Poker
ATTACH;FMTTYPE=image/png:https://www.circuscasinoresort.com/wp-content/uploads/2024/04/Agenda-598x337-sunday-deepstack.png
END:VEVENT
END:VCALENDAR